BEGIN:VCALENDAR
VERSION:2.0
PRODID:-//DELCHESTER SERRA CLUB - ECPv6.15.20//NONSGML v1.0//EN
CALSCALE:GREGORIAN
METHOD:PUBLISH
X-ORIGINAL-URL:https://delchesterserra.org
X-WR-CALDESC:Events for DELCHESTER SERRA CLUB
REFRESH-INTERVAL;VALUE=DURATION:PT1H
X-Robots-Tag:noindex
X-PUBLISHED-TTL:PT1H
BEGIN:VTIMEZONE
TZID:America/New_York
BEGIN:DAYLIGHT
TZOFFSETFROM:-0500
TZOFFSETTO:-0400
TZNAME:EDT
DTSTART:20230312T070000
END:DAYLIGHT
BEGIN:STANDARD
TZOFFSETFROM:-0400
TZOFFSETTO:-0500
TZNAME:EST
DTSTART:20231105T060000
END:STANDARD
BEGIN:DAYLIGHT
TZOFFSETFROM:-0500
TZOFFSETTO:-0400
TZNAME:EDT
DTSTART:20240310T070000
END:DAYLIGHT
BEGIN:STANDARD
TZOFFSETFROM:-0400
TZOFFSETTO:-0500
TZNAME:EST
DTSTART:20241103T060000
END:STANDARD
BEGIN:DAYLIGHT
TZOFFSETFROM:-0500
TZOFFSETTO:-0400
TZNAME:EDT
DTSTART:20250309T070000
END:DAYLIGHT
BEGIN:STANDARD
TZOFFSETFROM:-0400
TZOFFSETTO:-0500
TZNAME:EST
DTSTART:20251102T060000
END:STANDARD
END:VTIMEZONE
BEGIN:VEVENT
DTSTART;TZID=America/New_York:20241207T083000
DTEND;TZID=America/New_York:20241207T103000
DTSTAMP:20260420T033635
CREATED:20230731T175954Z
LAST-MODIFIED:20240605T190045Z
UID:1290-1733560200-1733567400@delchesterserra.org
SUMMARY:Delchester Serra Monthly Mass and Meeting
DESCRIPTION:Meeting in the Neumann Room after Mass.
URL:https://delchesterserra.org/event/delchester-serra-monthly-mass-and-meeting/
LOCATION:Church of St. Joseph\, 3255 Concord Road\, Aston\, PA\, 19014
END:VEVENT
END:VCALENDAR